Workbook

Sheet How to Use
A1: Facility 4-Week Menu Cycle Planner
A2: Outside Eats Facility Food Toolkit
A4: 1. Prices tab: replace the yellow prices with your vendor's current prices and pack sizes.
A5: 2. Check 'Servings per unit' for each item against your own portion standards.
A6: 3. 4-Week Cycle tab: pick each meal's items from the dropdowns. Cost per tray updates by itself.
A7: 4. Summary tab: enter your daily food budget per person. Each week shows cost per person per day,
A8: how many meals use a plant protein, and whether the week is over or under budget.
A9: 5. Try swapping a few meat entrées for beans or lentils and watch the weekly cost change.
A11: The sample cycle is an example to show the format. Replace it with your own menu.
A12: Prices marked 'Example' are placeholders, not real quotes. Three prices come from the U.S. Bureau
A13: of Labor Statistics average retail prices (Sept 2026) and will be higher than most bulk vendor prices.
A15: Planning aid only. Menus must be reviewed by your facility's registered dietitian and meet your state and accreditation standards. Outside Eats · outsideeats.org
... A19: Black text = formula, do not type over

Sheet Prices
A1: Ingredient prices
A2: Enter your own vendor prices in the yellow cells.
A4: Item | B4: Category | C4: Purchase unit | D4: Price per unit ($) | E4: Servings per unit | F4: Cost per serving ($) | G4: Serving size | H4: Plant protein? | I4: Price source / note
A5: Dried pinto beans | B5: Protein | C5: lb | D5: 1.67 | E5: 6 | F5: =IFERROR(D5/E5,0) | G5: 1 cup cooked | H5: Yes | I5: U.S. BLS average retail price, Sept 2026 (bls.gov/charts/consumer-price-index/average-price-data)
A6: Dried lentils | B6: Protein | C6: lb | D6: 1.6 | E6: 6 | F6: =IFERROR(D6/E6,0) | G6: 1 cup cooked | H6: Yes | I6: Example placeholder. Replace with your vendor price.
A7: Peanut butter | B7: Protein | C7: 16 oz jar | D7: 3 | E7: 14 | F7: =IFERROR(D7/E7,0) | G7: 2 Tbsp | H7: Yes | I7: Example placeholder. Replace with your vendor price.
A8: Ground beef | B8: Protein | C8: lb | D8: 6.79 | E8: 4 | F8: =IFERROR(D8/E8,0) | G8: 3 oz cooked | H8: No | I8: U.S. BLS average retail price, Sept 2026 (bls.gov/charts/consumer-price-index/average-price-data)
A9: Chicken leg quarters | B9: Protein | C9: lb | D9: 1.5 | E9: 2.5 | F9: =IFERROR(D9/E9,0) | G9: 3 oz cooked meat | H9: No | I9: Example placeholder. Replace with your vendor price.
A10: Eggs | B10: Protein | C10: dozen | D10: 3 | E10: 6 | F10: =IFERROR(D10/E10,0) | G10: 2 eggs | H10: No | I10: Example placeholder. Replace with your vendor price.
A11: White rice | B11: Starch | C11: lb | D11: 1.12 | E11: 10 | F11: =IFERROR(D11/E11,0) | G11: 3/4 cup cooked | I11: U.S. BLS average retail price, Sept 2026 (bls.gov/charts/consumer-price-index/average-price-data)
A12: Rolled oats | B12: Starch | C12: 42 oz canister | D12: 4 | E12: 30 | F12: =IFERROR(D12/E12,0) | G12: 1/2 cup dry | I12: Example placeholder. Replace with your vendor price.
A13: Potatoes | B13: Starch | C13: 10 lb bag | D13: 5 | E13: 30 | F13: =IFERROR(D13/E13,0) | G13: about 5 oz | I13: Example placeholder. Replace with your vendor price.
A14: Flour tortillas | B14: Starch | C14: pack of 10 | D14: 2.5 | E14: 5 | F14: =IFERROR(D14/E14,0) | G14: 2 tortillas | I14: Example placeholder. Replace with your vendor price.
A15: Cornbread | B15: Starch | C15: 8.5 oz mix box | D15: 0.75 | E15: 6 | F15: =IFERROR(D15/E15,0) | G15: 1 piece | I15: Example placeholder. Replace with your vendor price.
A16: Frozen mixed vegetables | B16: Vegetable | C16: 2.5 lb bag | D16: 3.5 | E16: 10 | F16: =IFERROR(D16/E16,0) | G16: 1/2 cup | I16: Example placeholder. Replace with your vendor price.
A17: Canned tomatoes | B17: Vegetable | C17: 28 oz can | D17: 1.75 | E17: 7 | F17: =IFERROR(D17/E17,0) | G17: 1/2 cup | I17: Example placeholder. Replace with your vendor price.
A18: Cabbage | B18: Vegetable | C18: lb | D18: 0.8 | E18: 4 | F18: =IFERROR(D18/E18,0) | G18: 1 cup shredded | I18: Example placeholder. Replace with your vendor price.
A19: Carrots | B19: Vegetable | C19: 2 lb bag | D19: 1.8 | E19: 8 | F19: =IFERROR(D19/E19,0) | G19: 1/2 cup | I19: Example placeholder. Replace with your vendor price.
A20: Bananas | B20: Fruit | C20: lb | D20: 0.65 | E20: 3 | F20: =IFERROR(D20/E20,0) | G20: 1 banana | I20: Example placeholder. Replace with your vendor price.
A21: Apples | B21: Fruit | C21: 3 lb bag | D21: 4 | E21: 9 | F21: =IFERROR(D21/E21,0) | G21: 1 apple | I21: Example placeholder. Replace with your vendor price.
A22: Milk | B22: Extra | C22: gallon | D22: 4 | E22: 16 | F22: =IFERROR(D22/E22,0) | G22: 1 cup | I22: Example placeholder. Replace with your vendor price.
F23: =IF(A23="","",IFERROR(D23/E23,0)) | I23: Add your own item
F24: =IF(A24="","",IFERROR(D24/E24,0)) | I24: Add your own item
F25: =IF(A25="","",IFERROR(D25/E25,0)) | I25: Add your own item
F26: =IF(A26="","",IFERROR(D26/E26,0)) | I26: Add your own item
F27: =IF(A27="","",IFERROR(D27/E27,0)) | I27: Add your own item
F28: =IF(A28="","",IFERROR(D28/E28,0)) | I28: Add your own item
F29: =IF(A29="","",IFERROR(D29/E29,0)) | I29: Add your own item
F30: =IF(A30="","",IFERROR(D30/E30,0)) | I30: Add your own item
F31: =IF(A31="","",IFERROR(D31/E31,0)) | I31: Add your own item
F32: =IF(A32="","",IFERROR(D32/E32,0)) | I32: Add your own item
F33: =IF(A33="","",IFERROR(D33/E33,0)) | I33: Add your own item
F34: =IF(A34="","",IFERROR(D34/E34,0)) | I34: Add your own item

Sheet 4-Week Cycle
A1: 4-week menu cycle (sample)
A2: Pick items from the dropdowns. Leave a cell blank if a meal has no item in that slot.
A4: Week | B4: Day | C4: Meal | D4: Protein | E4: Starch | F4: Vegetable or fruit | G4: Extra | H4: Plant protein? | I4: Cost per tray ($)
A5: 1 | B5: Mon | C5: Breakfast | D5: Peanut butter | E5: Rolled oats | F5: Bananas | G5: Milk | H5: =IF(D5="","",IF(IFERROR(INDEX(Prices!$H$5:$H$34,MATCH(D5,Prices!$A$5:$A$34,0)),"")="Yes","Yes","No")) | I5: =IFERROR(INDEX(Prices!$F$5:$F$34,MATCH(D5,Prices!$A$5:$A$34,0)),0)+IFERROR(INDEX(Prices!$F$5:$F$34,MATCH(E5,Prices!$A$5:$A$34,0)),0)+IFERROR(INDEX(Prices!$F$5:$F$34,MATCH(F5,Prices!$A$5:$A$34,0)),0)+IFERROR(INDEX(Prices!$F$5:$F$34,MATCH(G5,Prices!$A$5:$A$34,0)),0)
A6: 1 | B6: Mon | C6: Lunch | D6: Peanut butter | E6: Flour tortillas | F6: Apples | H6: =IF(D6="","",IF(IFERROR(INDEX(Prices!$H$5:$H$34,MATCH(D6,Prices!$A$5:$A$34,0)),"")="Yes","Yes","No")) | I6: =IFERROR(INDEX(Prices!$F$5:$F$34,MATCH(D6,Prices!$A$5:$A$34,0)),0)+IFERROR(INDEX(Prices!$F$5:$F$34,MATCH(E6,Prices!$A$5:$A$34,0)),0)+IFERROR(INDEX(Prices!$F$5:$F$34,MATCH(F6,Prices!$A$5:$A$34,0)),0)+IFERROR(INDEX(Prices!$F$5:$F$34,MATCH(G6,Prices!$A$5:$A$34,0)),0)
A7: 1 | B7: Mon | C7: Dinner | D7: Dried lentils | E7: White rice | F7: Frozen mixed vegetables | H7: =IF(D7="","",IF(IFERROR(INDEX(Prices!$H$5:$H$34,MATCH(D7,Prices!$A$5:$A$34,0)),"")="Yes","Yes","No")) | I7: =IFERROR(INDEX(Prices!$F$5:$F$34,MATCH(D7,Prices!$A$5:$A$34,0)),0)+IFERROR(INDEX(Prices!$F$5:$F$34,MATCH(E7,Prices!$A$5:$A$34,0)),0)+IFERROR(INDEX(Prices!$F$5:$F$34,MATCH(F7,Prices!$A$5:$A$34,0)),0)+IFERROR(INDEX(Prices!$F$5:$F$34,MATCH(G7,Prices!$A$5:$A$34,0)),0)
A8: 1 | B8: Tue | C8: Breakfast | D8: Eggs | E8: Potatoes | F8: Apples | G8: Milk | H8: =IF(D8="","",IF(IFERROR(INDEX(Prices!$H$5:$H$34,MATCH(D8,Prices!$A$5:$A$34,0)),"")="Yes","Yes","No")) | I8: =IFERROR(INDEX(Prices!$F$5:$F$34,MATCH(D8,Prices!$A$5:$A$34,0)),0)+IFERROR(INDEX(Prices!$F$5:$F$34,MATCH(E8,Prices!$A$5:$A$34,0)),0)+IFERROR(INDEX(Prices!$F$5:$F$34,MATCH(F8,Prices!$A$5:$A$34,0)),0)+IFERROR(INDEX(Prices!$F$5:$F$34,MATCH(G8,Prices!$A$5:$A$34,0)),0)
A9: 1 | B9: Tue | C9: Lunch | D9: Chicken leg quarters | E9: Potatoes | F9: Frozen mixed vegetables | H9: =IF(D9="","",IF(IFERROR(INDEX(Prices!$H$5:$H$34,MATCH(D9,Prices!$A$5:$A$34,0)),"")="Yes","Yes","No")) | I9: =IFERROR(INDEX(Prices!$F$5:$F$34,MATCH(D9,Prices!$A$5:$A$34,0)),0)+IFERROR(INDEX(Prices!$F$5:$F$34,MATCH(E9,Prices!$A$5:$A$34,0)),0)+IFERROR(INDEX(Prices!$F$5:$F$34,MATCH(F9,Prices!$A$5:$A$34,0)),0)+IFERROR(INDEX(Prices!$F$5:$F$34,MATCH(G9,Prices!$A$5:$A$34,0)),0)
A10: 1 | B10: Tue | C10: Dinner | D10: Eggs | E10: Potatoes | F10: Carrots | H10: =IF(D10="","",IF(IFERROR(INDEX(Prices!$H$5:$H$34,MATCH(D10,Prices!$A$5:$A$34,0)),"")="Yes","Yes","No")) | I10: =IFERROR(INDEX(Prices!$F$5:$F$34,MATCH(D10,Prices!$A$5:$A$34,0)),0)+IFERROR(INDEX(Prices!$F$5:$F$34,MATCH(E10,Prices!$A$5:$A$34,0)),0)+IFERROR(INDEX(Prices!$F$5:$F$34,MATCH(F10,Prices!$A$5:$A$34,0)),0)+IFERROR(INDEX(Prices!$F$5:$F$34,MATCH(G10,Prices!$A$5:$A$34,0)),0)
A11: 1 | B11: Wed | C11: Breakfast | D11: Peanut butter | E11: Flour tortillas | F11: Bananas | G11: Milk | H11: =IF(D11="","",IF(IFERROR(INDEX(Prices!$H$5:$H$34,MATCH(D11,Prices!$A$5:$A$34,0)),"")="Yes","Yes","No")) | I11: =IFERROR(INDEX(Prices!$F$5:$F$34,MATCH(D11,Prices!$A$5:$A$34,0)),0)+IFERROR(INDEX(Prices!$F$5:$F$34,MATCH(E11,Prices!$A$5:$A$34,0)),0)+IFERROR(INDEX(Prices!$F$5:$F$34,MATCH(F11,Prices!$A$5:$A$34,0)),0)+IFERROR(INDEX(Prices!$F$5:$F$34,MATCH(G11,Prices!$A$5:$A$34,0)),0)
A12: 1 | B12: Wed | C12: Lunch | D12: Dried pinto beans | E12: White rice | F12: Cabbage | G12: Cornbread | H12: =IF(D12="","",IF(IFERROR(INDEX(Prices!$H$5:$H$34,MATCH(D12,Prices!$A$5:$A$34,0)),"")="Yes","Yes","No")) | I12: =IFERROR(INDEX(Prices!$F$5:$F$34,MATCH(D12,Prices!$A$5:$A$34,0)),0)+IFERROR(INDEX(Prices!$F$5:$F$34,MATCH(E12,Prices!$A$5:$A$34,0)),0)+IFERROR(INDEX(Prices!$F$5:$F$34,MATCH(F12,Prices!$A$5:$A$34,0)),0)+IFERROR(INDEX(Prices!$F$5:$F$34,MATCH(G12,Prices!$A$5:$A$34,0)),0)
A13: 1 | B13: Wed | C13: Dinner | D13: Ground beef | E13: Potatoes | F13: Frozen mixed vegetables | H13: =IF(D13="","",IF(IFERROR(INDEX(Prices!$H$5:$H$34,MATCH(D13,Prices!$A$5:$A$34,0)),"")="Yes","Yes","No")) | I13: =IFERROR(INDEX(Prices!$F$5:$F$34,MATCH(D13,Prices!$A$5:$A$34,0)),0)+IFERROR(INDEX(Prices!$F$5:$F$34,MATCH(E13,Prices!$A$5:$A$34,0)),0)+IFERROR(INDEX(Prices!$F$5:$F$34,MATCH(F13,Prices!$A$5:$A$34,0)),0)+IFERROR(INDEX(Prices!$F$5:$F$34,MATCH(G13,Prices!$A$5:$A$34,0)),0)
A14: 1 | B14: Thu | C14: Breakfast | D14: Peanut butter | E14: Rolled oats | F14: Bananas | G14: Milk | H14: =IF(D14="","",IF(IFERROR(INDEX(Prices!$H$5:$H$34,MATCH(D14,Prices!$A$5:$A$34,0)),"")="Yes","Yes","No")) | I14: =IFERROR(INDEX(Prices!$F$5:$F$34,MATCH(D14,Prices!$A$5:$A$34,0)),0)+IFERROR(INDEX(Prices!$F$5:$F$34,MATCH(E14,Prices!$A$5:$A$34,0)),0)+IFERROR(INDEX(Prices!$F$5:$F$34,MATCH(F14,Prices!$A$5:$A$34,0)),0)+IFERROR(INDEX(Prices!$F$5:$F$34,MATCH(G14,Prices!$A$5:$A$34,0)),0)
A15: 1 | B15: Thu | C15: Lunch | D15: Dried lentils | E15: White rice | F15: Carrots | H15: =IF(D15="","",IF(IFERROR(INDEX(Prices!$H$5:$H$34,MATCH(D15,Prices!$A$5:$A$34,0)),"")="Yes","Yes","No")) | I15: =IFERROR(INDEX(Prices!$F$5:$F$34,MATCH(D15,Prices!$A$5:$A$34,0)),0)+IFERROR(INDEX(Prices!$F$5:$F$34,MATCH(E15,Prices!$A$5:$A$34,0)),0)+IFERROR(INDEX(Prices!$F$5:$F$34,MATCH(F15,Prices!$A$5:$A$34,0)),0)+IFERROR(INDEX(Prices!$F$5:$F$34,MATCH(G15,Prices!$A$5:$A$34,0)),0)
A16: 1 | B16: Thu | C16: Dinner | D16: Dried pinto beans | E16: Flour tortillas | F16: Canned tomatoes | H16: =IF(D16="","",IF(IFERROR(INDEX(Prices!$H$5:$H$34,MATCH(D16,Prices!$A$5:$A$34,0)),"")="Yes","Yes","No")) | I16: =IFERROR(INDEX(Prices!$F$5:$F$34,MATCH(D16,Prices!$A$5:$A$34,0)),0)+IFERROR(INDEX(Prices!$F$5:$F$34,MATCH(E16,Prices!$A$5:$A$34,0)),0)+IFERROR(INDEX(Prices!$F$5:$F$34,MATCH(F16,Prices!$A$5:$A$34,0)),0)+IFERROR(INDEX(Prices!$F$5:$F$34,MATCH(G16,Prices!$A$5:$A$34,0)),0)
A17: 1 | B17: Fri | C17: Breakfast | D17: Eggs | E17: Potatoes | F17: Apples | G17: Milk | H17: =IF(D17="","",IF(IFERROR(INDEX(Prices!$H$5:$H$34,MATCH(D17,Prices!$A$5:$A$34,0)),"")="Yes","Yes","No")) | I17: =IFERROR(INDEX(Prices!$F$5:$F$34,MATCH(D17,Prices!$A$5:$A$34,0)),0)+IFERROR(INDEX(Prices!$F$5:$F$34,MATCH(E17,Prices!$A$5:$A$34,0)),0)+IFERROR(INDEX(Prices!$F$5:$F$34,MATCH(F17,Prices!$A$5:$A$34,0)),0)+IFERROR(INDEX(Prices!$F$5:$F$34,MATCH(G17,Prices!$A$5:$A$34,0)),0)
A18: 1 | B18: Fri | C18: Lunch | D18: Ground beef | E18: Flour tortillas | F18: Canned tomatoes | H18: =IF(D18="","",IF(IFERROR(INDEX(Prices!$H$5:$H$34,MATCH(D18,Prices!$A$5:$A$34,0)),"")="Yes","Yes","No")) | I18: =IFERROR(INDEX(Prices!$F$5:$F$34,MATCH(D18,Prices!$A$5:$A$34,0)),0)+IFERROR(INDEX(Prices!$F$5:$F$34,MATCH(E18,Prices!$A$5:$A$34,0)),0)+IFERROR(INDEX(Prices!$F$5:$F$34,MATCH(F18,Prices!$A$5:$A$34,0)),0)+IFERROR(INDEX(Prices!$F$5:$F$34,MATCH(G18,Prices!$A$5:$A$34,0)),0)
A19: 1 | B19: Fri | C19: Dinner | D19: Chicken leg quarters | E19: White rice | F19: Frozen mixed vegetables | G19: Cornbread | H19: =IF(D19="","",IF(IFERROR(INDEX(Prices!$H$5:$H$34,MATCH(D19,Prices!$A$5:$A$34,0)),"")="Yes","Yes","No")) | I19: =IFERROR(INDEX(Prices!$F$5:$F$34,MATCH(D19,Prices!$A$5:$A$34,0)),0)+IFERROR(INDEX(Prices!$F$5:$F$34,MATCH(E19,Prices!$A$5:$A$34,0)),0)+IFERROR(INDEX(Prices!$F$5:$F$34,MATCH(F19,Prices!$A$5:$A$34,0)),0)+IFERROR(INDEX(Prices!$F$5:$F$34,MATCH(G19,Prices!$A$5:$A$34,0)),0)
A20: 1 | B20: Sat | C20: Breakfast | D20: Peanut butter | E20: Flour tortillas | F20: Bananas | G20: Milk | H20: =IF(D20="","",IF(IFERROR(INDEX(Prices!$H$5:$H$34,MATCH(D20,Prices!$A$5:$A$34,0)),"")="Yes","Yes","No")) | I20: =IFERROR(INDEX(Prices!$F$5:$F$34,MATCH(D20,Prices!$A$5:$A$34,0)),0)+IFERROR(INDEX(Prices!$F$5:$F$34,MATCH(E20,Prices!$A$5:$A$34,0)),0)+IFERROR(INDEX(Prices!$F$5:$F$34,MATCH(F20,Prices!$A$5:$A$34,0)),0)+IFERROR(INDEX(Prices!$F$5:$F$34,MATCH(G20,Prices!$A$5:$A$34,0)),0)
A21: 1 | B21: Sat | C21: Lunch | D21: Peanut butter | E21: Flour tortillas | F21: Apples | H21: =IF(D21="","",IF(IFERROR(INDEX(Prices!$H$5:$H$34,MATCH(D21,Prices!$A$5:$A$34,0)),"")="Yes","Yes","No")) | I21: =IFERROR(INDEX(Prices!$F$5:$F$34,MATCH(D21,Prices!$A$5:$A$34,0)),0)+IFERROR(INDEX(Prices!$F$5:$F$34,MATCH(E21,Prices!$A$5:$A$34,0)),0)+IFERROR(INDEX(Prices!$F$5:$F$34,MATCH(F21,Prices!$A$5:$A$34,0)),0)+IFERROR(INDEX(Prices!$F$5:$F$34,MATCH(G21,Prices!$A$5:$A$34,0)),0)
A22: 1 | B22: Sat | C22: Dinner | D22: Dried pinto beans | E22: Potatoes | F22: Cabbage | G22: Cornbread | H22: =IF(D22="","",IF(IFERROR(INDEX(Prices!$H$5:$H$34,MATCH(D22,Prices!$A$5:$A$34,0)),"")="Yes","Yes","No")) | I22: =IFERROR(INDEX(Prices!$F$5:$F$34,MATCH(D22,Prices!$A$5:$A$34,0)),0)+IFERROR(INDEX(Prices!$F$5:$F$34,MATCH(E22,Prices!$A$5:$A$34,0)),0)+IFERROR(INDEX(Prices!$F$5:$F$34,MATCH(F22,Prices!$A$5:$A$34,0)),0)+IFERROR(INDEX(Prices!$F$5:$F$34,MATCH(G22,Prices!$A$5:$A$34,0)),0)
A23: 1 | B23: Sun | C23: Breakfast | D23: Peanut butter | E23: Rolled oats | F23: Bananas | G23: Milk | H23: =IF(D23="","",IF(IFERROR(INDEX(Prices!$H$5:$H$34,MATCH(D23,Prices!$A$5:$A$34,0)),"")="Yes","Yes","No")) | I23: =IFERROR(INDEX(Prices!$F$5:$F$34,MATCH(D23,Prices!$A$5:$A$34,0)),0)+IFERROR(INDEX(Prices!$F$5:$F$34,MATCH(E23,Prices!$A$5:$A$34,0)),0)+IFERROR(INDEX(Prices!$F$5:$F$34,MATCH(F23,Prices!$A$5:$A$34,0)),0)+IFERROR(INDEX(Prices!$F$5:$F$34,MATCH(G23,Prices!$A$5:$A$34,0)),0)
A24: 1 | B24: Sun | C24: Lunch | D24: Chicken leg quarters | E24: Potatoes | F24: Frozen mixed vegetables | H24: =IF(D24="","",IF(IFERROR(INDEX(Prices!$H$5:$H$34,MATCH(D24,Prices!$A$5:$A$34,0)),"")="Yes","Yes","No")) | I24: =IFERROR(INDEX(Prices!$F$5:$F$34,MATCH(D24,Prices!$A$5:$A$34,0)),0)+IFERROR(INDEX(Prices!$F$5:$F$34,MATCH(E24,Prices!$A$5:$A$34,0)),0)+IFERROR(INDEX(Prices!$F$5:$F$34,MATCH(F24,Prices!$A$5:$A$34,0)),0)+IFERROR(INDEX(Prices!$F$5:$F$34,MATCH(G24,Prices!$A$5:$A$34,0)),0)
A25: 1 | B25: Sun | C25: Dinner | D25: Ground beef | E25: White rice | F25: Canned tomatoes | H25: =IF(D25="","",IF(IFERROR(INDEX(Prices!$H$5:$H$34,MATCH(D25,Prices!$A$5:$A$34,0)),"")="Yes","Yes","No")) | I25: =IFERROR(INDEX(Prices!$F$5:$F$34,MATCH(D25,Prices!$A$5:$A$34,0)),0)+IFERROR(INDEX(Prices!$F$5:$F$34,MATCH(E25,Prices!$A$5:$A$34,0)),0)+IFERROR(INDEX(Prices!$F$5:$F$34,MATCH(F25,Prices!$A$5:$A$34,0)),0)+IFERROR(INDEX(Prices!$F$5:$F$34,MATCH(G25,Prices!$A$5:$A$34,0)),0)
A26: 2 | B26: Mon | C26: Breakfast | D26: Peanut butter | E26: Rolled oats | F26: Bananas | G26: Milk | H26: =IF(D26="","",IF(IFERROR(INDEX(Prices!$H$5:$H$34,MATCH(D26,Prices!$A$5:$A$34,0)),"")="Yes","Yes","No")) | I26: =IFERROR(INDEX(Prices!$F$5:$F$34,MATCH(D26,Prices!$A$5:$A$34,0)),0)+IFERROR(INDEX(Prices!$F$5:$F$34,MATCH(E26,Prices!$A$5:$A$34,0)),0)+IFERROR(INDEX(Prices!$F$5:$F$34,MATCH(F26,Prices!$A$5:$A$34,0)),0)+IFERROR(INDEX(Prices!$F$5:$F$34,MATCH(G26,Prices!$A$5:$A$34,0)),0)
A27: 2 | B27: Mon | C27: Lunch | D27: Dried lentils | E27: White rice | F27: Carrots | H27: =IF(D27="","",IF(IFERROR(INDEX(Prices!$H$5:$H$34,MATCH(D27,Prices!$A$5:$A$34,0)),"")="Yes","Yes","No")) | I27: =IFERROR(INDEX(Prices!$F$5:$F$34,MATCH(D27,Prices!$A$5:$A$34,0)),0)+IFERROR(INDEX(Prices!$F$5:$F$34,MATCH(E27,Prices!$A$5:$A$34,0)),0)+IFERROR(INDEX(Prices!$F$5:$F$34,MATCH(F27,Prices!$A$5:$A$34,0)),0)+IFERROR(INDEX(Prices!$F$5:$F$34,MATCH(G27,Prices!$A$5:$A$34,0)),0)
A28: 2 | B28: Mon | C28: Dinner | D28: Dried pinto beans | E28: Flour tortillas | F28: Canned tomatoes | H28: =IF(D28="","",IF(IFERROR(INDEX(Prices!$H$5:$H$34,MATCH(D28,Prices!$A$5:$A$34,0)),"")="Yes","Yes","No")) | I28: =IFERROR(INDEX(Prices!$F$5:$F$34,MATCH(D28,Prices!$A$5:$A$34,0)),0)+IFERROR(INDEX(Prices!$F$5:$F$34,MATCH(E28,Prices!$A$5:$A$34,0)),0)+IFERROR(INDEX(Prices!$F$5:$F$34,MATCH(F28,Prices!$A$5:$A$34,0)),0)+IFERROR(INDEX(Prices!$F$5:$F$34,MATCH(G28,Prices!$A$5:$A$34,0)),0)
A29: 2 | B29: Tue | C29: Breakfast | D29: Eggs | E29: Potatoes | F29: Apples | G29: Milk | H29: =IF(D29="","",IF(IFERROR(INDEX(Prices!$H$5:$H$34,MATCH(D29,Prices!$A$5:$A$34,0)),"")="Yes","Yes","No")) | I29: =IFERROR(INDEX(Prices!$F$5:$F$34,MATCH(D29,Prices!$A$5:$A$34,0)),0)+IFERROR(INDEX(Prices!$F$5:$F$34,MATCH(E29,Prices!$A$5:$A$34,0)),0)+IFERROR(INDEX(Prices!$F$5:$F$34,MATCH(F29,Prices!$A$5:$A$34,0)),0)+IFERROR(INDEX(Prices!$F$5:$F$34,MATCH(G29,Prices!$A$5:$A$34,0)),0)
A30: 2 | B30: Tue | C30: Lunch | D30: Ground beef | E30: Flour tortillas | F30: Canned tomatoes | H30: =IF(D30="","",IF(IFERROR(INDEX(Prices!$H$5:$H$34,MATCH(D30,Prices!$A$5:$A$34,0)),"")="Yes","Yes","No")) | I30: =IFERROR(INDEX(Prices!$F$5:$F$34,MATCH(D30,Prices!$A$5:$A$34,0)),0)+IFERROR(INDEX(Prices!$F$5:$F$34,MATCH(E30,Prices!$A$5:$A$34,0)),0)+IFERROR(INDEX(Prices!$F$5:$F$34,MATCH(F30,Prices!$A$5:$A$34,0)),0)+IFERROR(INDEX(Prices!$F$5:$F$34,MATCH(G30,Prices!$A$5:$A$34,0)),0)
A31: 2 | B31: Tue | C31: Dinner | D31: Chicken leg quarters | E31: White rice | F31: Frozen mixed vegetables | G31: Cornbread | H31: =IF(D31="","",IF(IFERROR(INDEX(Prices!$H$5:$H$34,MATCH(D31,Prices!$A$5:$A$34,0)),"")="Yes","Yes","No")) | I31: =IFERROR(INDEX(Prices!$F$5:$F$34,MATCH(D31,Prices!$A$5:$A$34,0)),0)+IFERROR(INDEX(Prices!$F$5:$F$34,MATCH(E31,Prices!$A$5:$A$34,0)),0)+IFERROR(INDEX(Prices!$F$5:$F$34,MATCH(F31,Prices!$A$5:$A$34,0)),0)+IFERROR(INDEX(Prices!$F$5:$F$34,MATCH(G31,Prices!$A$5:$A$34,0)),0)
A32: 2 | B32: Wed | C32: Breakfast | D32: Peanut butter | E32: Flour tortillas | F32: Bananas | G32: Milk | H32: =IF(D32="","",IF(IFERROR(INDEX(Prices!$H$5:$H$34,MATCH(D32,Prices!$A$5:$A$34,0)),"")="Yes","Yes","No")) | I32: =IFERROR(INDEX(Prices!$F$5:$F$34,MATCH(D32,Prices!$A$5:$A$34,0)),0)+IFERROR(INDEX(Prices!$F$5:$F$34,MATCH(E32,Prices!$A$5:$A$34,0)),0)+IFERROR(INDEX(Prices!$F$5:$F$34,MATCH(F32,Prices!$A$5:$A$34,0)),0)+IFERROR(INDEX(Prices!$F$5:$F$34,MATCH(G32,Prices!$A$5:$A$34,0)),0)
A33: 2 | B33: Wed | C33: Lunch | D33: Peanut butter | E33: Flour tortillas | F33: Apples | H33: =IF(D33="","",IF(IFERROR(INDEX(Prices!$H$5:$H$34,MATCH(D33,Prices!$A$5:$A$34,0)),"")="Yes","Yes","No")) | I33: =IFERROR(INDEX(Prices!$F$5:$F$34,MATCH(D33,Prices!$A$5:$A$34,0)),0)+IFERROR(INDEX(Prices!$F$5:$F$34,MATCH(E33,Prices!$A$5:$A$34,0)),0)+IFERROR(INDEX(Prices!$F$5:$F$34,MATCH(F33,Prices!$A$5:$A$34,0)),0)+IFERROR(INDEX(Prices!$F$5:$F$34,MATCH(G33,Prices!$A$5:$A$34,0)),0)
A34: 2 | B34: Wed | C34: Dinner | D34: Dried pinto beans | E34: Potatoes | F34: Cabbage | G34: Cornbread | H34: =IF(D34="","",IF(IFERROR(INDEX(Prices!$H$5:$H$34,MATCH(D34,Prices!$A$5:$A$34,0)),"")="Yes","Yes","No")) | I34: =IFERROR(INDEX(Prices!$F$5:$F$34,MATCH(D34,Prices!$A$5:$A$34,0)),0)+IFERROR(INDEX(Prices!$F$5:$F$34,MATCH(E34,Prices!$A$5:$A$34,0)),0)+IFERROR(INDEX(Prices!$F$5:$F$34,MATCH(F34,Prices!$A$5:$A$34,0)),0)+IFERROR(INDEX(Prices!$F$5:$F$34,MATCH(G34,Prices!$A$5:$A$34,0)),0)
A35: 2 | B35: Thu | C35: Breakfast | D35: Peanut butter | E35: Rolled oats | F35: Bananas | G35: Milk | H35: =IF(D35="","",IF(IFERROR(INDEX(Prices!$H$5:$H$34,MATCH(D35,Prices!$A$5:$A$34,0)),"")="Yes","Yes","No")) | I35: =IFERROR(INDEX(Prices!$F$5:$F$34,MATCH(D35,Prices!$A$5:$A$34,0)),0)+IFERROR(INDEX(Prices!$F$5:$F$34,MATCH(E35,Prices!$A$5:$A$34,0)),0)+IFERROR(INDEX(Prices!$F$5:$F$34,MATCH(F35,Prices!$A$5:$A$34,0)),0)+IFERROR(INDEX(Prices!$F$5:$F$34,MATCH(G35,Prices!$A$5:$A$34,0)),0)
A36: 2 | B36: Thu | C36: Lunch | D36: Chicken leg quarters | E36: Potatoes | F36: Frozen mixed vegetables | H36: =IF(D36="","",IF(IFERROR(INDEX(Prices!$H$5:$H$34,MATCH(D36,Prices!$A$5:$A$34,0)),"")="Yes","Yes","No")) | I36: =IFERROR(INDEX(Prices!$F$5:$F$34,MATCH(D36,Prices!$A$5:$A$34,0)),0)+IFERROR(INDEX(Prices!$F$5:$F$34,MATCH(E36,Prices!$A$5:$A$34,0)),0)+IFERROR(INDEX(Prices!$F$5:$F$34,MATCH(F36,Prices!$A$5:$A$34,0)),0)+IFERROR(INDEX(Prices!$F$5:$F$34,MATCH(G36,Prices!$A$5:$A$34,0)),0)
A37: 2 | B37: Thu | C37: Dinner | D37: Ground beef | E37: White rice | F37: Canned tomatoes | H37: =IF(D37="","",IF(IFERROR(INDEX(Prices!$H$5:$H$34,MATCH(D37,Prices!$A$5:$A$34,0)),"")="Yes","Yes","No")) | I37: =IFERROR(INDEX(Prices!$F$5:$F$34,MATCH(D37,Prices!$A$5:$A$34,0)),0)+IFERROR(INDEX(Prices!$F$5:$F$34,MATCH(E37,Prices!$A$5:$A$34,0)),0)+IFERROR(INDEX(Prices!$F$5:$F$34,MATCH(F37,Prices!$A$5:$A$34,0)),0)+IFERROR(INDEX(Prices!$F$5:$F$34,MATCH(G37,Prices!$A$5:$A$34,0)),0)
A38: 2 | B38: Fri | C38: Breakfast | D38: Eggs | E38: Potatoes | F38: Apples | G38: Milk | H38: =IF(D38="","",IF(IFERROR(INDEX(Prices!$H$5:$H$34,MATCH(D38,Prices!$A$5:$A$34,0)),"")="Yes","Yes","No")) | I38: =IFERROR(INDEX(Prices!$F$5:$F$34,MATCH(D38,Prices!$A$5:$A$34,0)),0)+IFERROR(INDEX(Prices!$F$5:$F$34,MATCH(E38,Prices!$A$5:$A$34,0)),0)+IFERROR(INDEX(Prices!$F$5:$F$34,MATCH(F38,Prices!$A$5:$A$34,0)),0)+IFERROR(INDEX(Prices!$F$5:$F$34,MATCH(G38,Prices!$A$5:$A$34,0)),0)
A39: 2 | B39: Fri | C39: Lunch | D39: Dried pinto beans | E39: White rice | F39: Cabbage | G39: Cornbread | H39: =IF(D39="","",IF(IFERROR(INDEX(Prices!$H$5:$H$34,MATCH(D39,Prices!$A$5:$A$34,0)),"")="Yes","Yes","No")) | I39: =IFERROR(INDEX(Prices!$F$5:$F$34,MATCH(D39,Prices!$A$5:$A$34,0)),0)+IFERROR(INDEX(Prices!$F$5:$F$34,MATCH(E39,Prices!$A$5:$A$34,0)),0)+IFERROR(INDEX(Prices!$F$5:$F$34,MATCH(F39,Prices!$A$5:$A$34,0)),0)+IFERROR(INDEX(Prices!$F$5:$F$34,MATCH(G39,Prices!$A$5:$A$34,0)),0)
A40: 2 | B40: Fri | C40: Dinner | D40: Dried lentils | E40: White rice | F40: Frozen mixed vegetables | H40: =IF(D40="","",IF(IFERROR(INDEX(Prices!$H$5:$H$34,MATCH(D40,Prices!$A$5:$A$34,0)),"")="Yes","Yes","No")) | I40: =IFERROR(INDEX(Prices!$F$5:$F$34,MATCH(D40,Prices!$A$5:$A$34,0)),0)+IFERROR(INDEX(Prices!$F$5:$F$34,MATCH(E40,Prices!$A$5:$A$34,0)),0)+IFERROR(INDEX(Prices!$F$5:$F$34,MATCH(F40,Prices!$A$5:$A$34,0)),0)+IFERROR(INDEX(Prices!$F$5:$F$34,MATCH(G40,Prices!$A$5:$A$34,0)),0)
A41: 2 | B41: Sat | C41: Breakfast | D41: Peanut butter | E41: Flour tortillas | F41: Bananas | G41: Milk | H41: =IF(D41="","",IF(IFERROR(INDEX(Prices!$H$5:$H$34,MATCH(D41,Prices!$A$5:$A$34,0)),"")="Yes","Yes","No")) | I41: =IFERROR(INDEX(Prices!$F$5:$F$34,MATCH(D41,Prices!$A$5:$A$34,0)),0)+IFERROR(INDEX(Prices!$F$5:$F$34,MATCH(E41,Prices!$A$5:$A$34,0)),0)+IFERROR(INDEX(Prices!$F$5:$F$34,MATCH(F41,Prices!$A$5:$A$34,0)),0)+IFERROR(INDEX(Prices!$F$5:$F$34,MATCH(G41,Prices!$A$5:$A$34,0)),0)
...

Sheet Summary
A1: Weekly summary
A2: Cost per person per day assumes one tray per person per meal.
A4: Your daily food budget per person ($) | B4: 2.5 | C4: Example only. Enter your own budget. For context, Georgia spent about $1.69 per person per day on prison food in 2024 (The Marshall Project).
A6: Week | B6: Mon | C6: Tue | D6: Wed | E6: Thu | F6: Fri | G6: Sat | H6: Sun | I6: Avg per person per day ($) | J6: Plant-protein meals | K6: Over / (under) budget per day ($)
A7: Week 1 | B7: =SUMIFS('4-Week Cycle'!$I$5:$I$88,'4-Week Cycle'!$A$5:$A$88,1,'4-Week Cycle'!$B$5:$B$88,"Mon") | C7: =SUMIFS('4-Week Cycle'!$I$5:$I$88,'4-Week Cycle'!$A$5:$A$88,1,'4-Week Cycle'!$B$5:$B$88,"Tue") | D7: =SUMIFS('4-Week Cycle'!$I$5:$I$88,'4-Week Cycle'!$A$5:$A$88,1,'4-Week Cycle'!$B$5:$B$88,"Wed") | E7: =SUMIFS('4-Week Cycle'!$I$5:$I$88,'4-Week Cycle'!$A$5:$A$88,1,'4-Week Cycle'!$B$5:$B$88,"Thu") | F7: =SUMIFS('4-Week Cycle'!$I$5:$I$88,'4-Week Cycle'!$A$5:$A$88,1,'4-Week Cycle'!$B$5:$B$88,"Fri") | G7: =SUMIFS('4-Week Cycle'!$I$5:$I$88,'4-Week Cycle'!$A$5:$A$88,1,'4-Week Cycle'!$B$5:$B$88,"Sat") | H7: =SUMIFS('4-Week Cycle'!$I$5:$I$88,'4-Week Cycle'!$A$5:$A$88,1,'4-Week Cycle'!$B$5:$B$88,"Sun") | I7: =AVERAGE(B7:H7) | J7: =COUNTIFS('4-Week Cycle'!$A$5:$A$88,1,'4-Week Cycle'!$H$5:$H$88,"Yes") | K7: =I7-$B$4
A8: Week 2 | B8: =SUMIFS('4-Week Cycle'!$I$5:$I$88,'4-Week Cycle'!$A$5:$A$88,2,'4-Week Cycle'!$B$5:$B$88,"Mon") | C8: =SUMIFS('4-Week Cycle'!$I$5:$I$88,'4-Week Cycle'!$A$5:$A$88,2,'4-Week Cycle'!$B$5:$B$88,"Tue") | D8: =SUMIFS('4-Week Cycle'!$I$5:$I$88,'4-Week Cycle'!$A$5:$A$88,2,'4-Week Cycle'!$B$5:$B$88,"Wed") | E8: =SUMIFS('4-Week Cycle'!$I$5:$I$88,'4-Week Cycle'!$A$5:$A$88,2,'4-Week Cycle'!$B$5:$B$88,"Thu") | F8: =SUMIFS('4-Week Cycle'!$I$5:$I$88,'4-Week Cycle'!$A$5:$A$88,2,'4-Week Cycle'!$B$5:$B$88,"Fri") | G8: =SUMIFS('4-Week Cycle'!$I$5:$I$88,'4-Week Cycle'!$A$5:$A$88,2,'4-Week Cycle'!$B$5:$B$88,"Sat") | H8: =SUMIFS('4-Week Cycle'!$I$5:$I$88,'4-Week Cycle'!$A$5:$A$88,2,'4-Week Cycle'!$B$5:$B$88,"Sun") | I8: =AVERAGE(B8:H8) | J8: =COUNTIFS('4-Week Cycle'!$A$5:$A$88,2,'4-Week Cycle'!$H$5:$H$88,"Yes") | K8: =I8-$B$4
A9: Week 3 | B9: =SUMIFS('4-Week Cycle'!$I$5:$I$88,'4-Week Cycle'!$A$5:$A$88,3,'4-Week Cycle'!$B$5:$B$88,"Mon") | C9: =SUMIFS('4-Week Cycle'!$I$5:$I$88,'4-Week Cycle'!$A$5:$A$88,3,'4-Week Cycle'!$B$5:$B$88,"Tue") | D9: =SUMIFS('4-Week Cycle'!$I$5:$I$88,'4-Week Cycle'!$A$5:$A$88,3,'4-Week Cycle'!$B$5:$B$88,"Wed") | E9: =SUMIFS('4-Week Cycle'!$I$5:$I$88,'4-Week Cycle'!$A$5:$A$88,3,'4-Week Cycle'!$B$5:$B$88,"Thu") | F9: =SUMIFS('4-Week Cycle'!$I$5:$I$88,'4-Week Cycle'!$A$5:$A$88,3,'4-Week Cycle'!$B$5:$B$88,"Fri") | G9: =SUMIFS('4-Week Cycle'!$I$5:$I$88,'4-Week Cycle'!$A$5:$A$88,3,'4-Week Cycle'!$B$5:$B$88,"Sat") | H9: =SUMIFS('4-Week Cycle'!$I$5:$I$88,'4-Week Cycle'!$A$5:$A$88,3,'4-Week Cycle'!$B$5:$B$88,"Sun") | I9: =AVERAGE(B9:H9) | J9: =COUNTIFS('4-Week Cycle'!$A$5:$A$88,3,'4-Week Cycle'!$H$5:$H$88,"Yes") | K9: =I9-$B$4
A10: Week 4 | B10: =SUMIFS('4-Week Cycle'!$I$5:$I$88,'4-Week Cycle'!$A$5:$A$88,4,'4-Week Cycle'!$B$5:$B$88,"Mon") | C10: =SUMIFS('4-Week Cycle'!$I$5:$I$88,'4-Week Cycle'!$A$5:$A$88,4,'4-Week Cycle'!$B$5:$B$88,"Tue") | D10: =SUMIFS('4-Week Cycle'!$I$5:$I$88,'4-Week Cycle'!$A$5:$A$88,4,'4-Week Cycle'!$B$5:$B$88,"Wed") | E10: =SUMIFS('4-Week Cycle'!$I$5:$I$88,'4-Week Cycle'!$A$5:$A$88,4,'4-Week Cycle'!$B$5:$B$88,"Thu") | F10: =SUMIFS('4-Week Cycle'!$I$5:$I$88,'4-Week Cycle'!$A$5:$A$88,4,'4-Week Cycle'!$B$5:$B$88,"Fri") | G10: =SUMIFS('4-Week Cycle'!$I$5:$I$88,'4-Week Cycle'!$A$5:$A$88,4,'4-Week Cycle'!$B$5:$B$88,"Sat") | H10: =SUMIFS('4-Week Cycle'!$I$5:$I$88,'4-Week Cycle'!$A$5:$A$88,4,'4-Week Cycle'!$B$5:$B$88,"Sun") | I10: =AVERAGE(B10:H10) | J10: =COUNTIFS('4-Week Cycle'!$A$5:$A$88,4,'4-Week Cycle'!$H$5:$H$88,"Yes") | K10: =I10-$B$4
A12: 4-week average | I12: =AVERAGE(I7:I10) | J12: =SUM(J7:J10) | K12: =I12-$B$4
A14: Planning aid only. Menus must be reviewed by your facility's registered dietitian and meet your state and accreditation standards. Outside Eats · outsideeats.org
